BEGIN:VCALENDAR
VERSION:2.0
PRODID:-//Yvonne Heimberg - ECPv6.6.1//NONSGML v1.0//EN
CALSCALE:GREGORIAN
METHOD:PUBLISH
X-WR-CALNAME:Yvonne Heimberg
X-ORIGINAL-URL:https://www.bewusst-stark.ch
X-WR-CALDESC:Veranstaltungen für Yvonne Heimberg
REFRESH-INTERVAL;VALUE=DURATION:PT1H
X-Robots-Tag:noindex
X-PUBLISHED-TTL:PT1H
BEGIN:VTIMEZONE
TZID:Europe/Zurich
BEGIN:DAYLIGHT
TZOFFSETFROM:+0100
TZOFFSETTO:+0200
TZNAME:CEST
DTSTART:20240331T010000
END:DAYLIGHT
BEGIN:STANDARD
TZOFFSETFROM:+0200
TZOFFSETTO:+0100
TZNAME:CET
DTSTART:20241027T010000
END:STANDARD
END:VTIMEZONE
BEGIN:VEVENT
DTSTART;TZID=Europe/Zurich:20241028T080000
DTEND;TZID=Europe/Zurich:20241028T170000
DTSTAMP:20260426T061023
CREATED:20240729T140420Z
LAST-MODIFIED:20240805T084145Z
UID:10000016-1730102400-1730134800@www.bewusst-stark.ch
SUMMARY:bewusst stark KOMMUNIZIEREN
DESCRIPTION:Seminar “Kommunikation und Konfliktmanagement”\nAus der Seminarreihe zur Persönlichkeitsentwicklung im geschäftlichen und privaten Alltag. \n  \nInhalt und Ziele des Seminars: \n  \n\nVerbessere deine Kommunikationsfähigkeiten und die Gesprächsführung.\nLerne\, Konflikte effektiv zu lösen.\nEntdecke die Kunst der klaren und empathischen Kommunikation\, um Missverständnisse zu vermeiden und harmonischere Beziehungen zu fördern.\nErfahre praxisnahe Techniken\, um Konflikte souverän zu managen und ein positives Umfeld zu schaffen.\n\n  \nSei dabei und stärke Deine zwischenmenschlichen Fähigkeiten\, werde zum Experten inmitten verschiedener Generationen in deinem Team oder im Privaten; wir freuen uns auf dich! \n  \nSeminarleitung: \n\nYvonne HEIMBERG | www.bewusst-stark.ch\nSonja GIGER | www.sonjagiger.ch\n\n  \nFür die Durchführung des Seminars ist eine Mindestanzahl von 6 Teilnehmern erforderlich.
URL:https://www.bewusst-stark.ch/event/2024-10-kommunikation/
LOCATION:Männedorf – Hotel Boldern\, Boldernstrasse 83\, Männedorf\, 8708\, Schweiz
CATEGORIES:Seminar
ATTACH;FMTTYPE=image/jpeg:https://www.bewusst-stark.ch/wp-content/uploads/2024/07/iStock-1364729879-1500px.jpg
ORGANIZER;CN="bewusst-stark.ch":MAILTO:info@bewusst-stark.ch
END:VEVENT
END:VCALENDAR